BEGIN:VCALENDAR
VERSION:2.0
PRODID:-//Heartland Pride - ECPv6.15.20//NONSGML v1.0//EN
CALSCALE:GREGORIAN
METHOD:PUBLISH
X-WR-CALNAME:Heartland Pride
X-ORIGINAL-URL:https://heartlandpride.org
X-WR-CALDESC:Events for Heartland Pride
REFRESH-INTERVAL;VALUE=DURATION:PT1H
X-Robots-Tag:noindex
X-PUBLISHED-TTL:PT1H
BEGIN:VTIMEZONE
TZID:UTC
BEGIN:STANDARD
TZOFFSETFROM:+0000
TZOFFSETTO:+0000
TZNAME:UTC
DTSTART:20220101T000000
END:STANDARD
END:VTIMEZONE
BEGIN:VEVENT
DTSTART;TZID=UTC:20230507T213000
DTEND;TZID=UTC:20230507T233000
DTSTAMP:20260421T082446
CREATED:20230404T004555Z
LAST-MODIFIED:20230404T004555Z
UID:7206-1683495000-1683502200@heartlandpride.org
SUMMARY:Mainstage Rumble
DESCRIPTION:Come enjoy the show and cheer for your favorite local performers on Sunday\, May 7\, as they compete for a coveted spot on the Mainstage at this year’s Heartland Pride Festival!
URL:https://heartlandpride.org/event/mainstage-rumble/
LOCATION:The  MAX\, 1417 Jackson St.\, Omaha\, NE\, 68102\, United States
ATTACH;FMTTYPE=image/jpeg:https://heartlandpride.org/wp-content/uploads/2023/04/IMG_8915.jpg
END:VEVENT
BEGIN:VEVENT
DTSTART;TZID=UTC:20230428T183000
DTEND;TZID=UTC:20230428T183000
DTSTAMP:20260421T082446
CREATED:20230413T005654Z
LAST-MODIFIED:20230413T005654Z
UID:7255-1682706600-1682706600@heartlandpride.org
SUMMARY:Coffee & Support
DESCRIPTION:
URL:https://heartlandpride.org/event/coffee-support/
LOCATION:San Andres Lutheran Church\, 4440 S 25th St\, Omaha\, NE\, 68107\, United States
ATTACH;FMTTYPE=image/jpeg:https://heartlandpride.org/wp-content/uploads/2023/04/IMG_8220-e1681347321468.jpg
END:VEVENT
END:VCALENDAR